BEGIN:VCALENDAR
VERSION:2.0
PRODID:-//Pro Bono Week UK - ECPv6.15.20//NONSGML v1.0//EN
CALSCALE:GREGORIAN
METHOD:PUBLISH
X-WR-CALNAME:Pro Bono Week UK
X-ORIGINAL-URL:https://probonoweek.org.uk
X-WR-CALDESC:Events for Pro Bono Week UK
REFRESH-INTERVAL;VALUE=DURATION:PT1H
X-Robots-Tag:noindex
X-PUBLISHED-TTL:PT1H
BEGIN:VTIMEZONE
TZID:UTC
BEGIN:STANDARD
TZOFFSETFROM:+0000
TZOFFSETTO:+0000
TZNAME:UTC
DTSTART:20240101T000000
END:STANDARD
END:VTIMEZONE
BEGIN:VEVENT
DTSTART;TZID=UTC:20251016T173000
DTEND;TZID=UTC:20251016T190000
DTSTAMP:20260422T115443
CREATED:20251006T125707Z
LAST-MODIFIED:20251006T125804Z
UID:2820-1760635800-1760641200@probonoweek.org.uk
SUMMARY:When communities and lawyers unite\, incredible things happen - The PILS Project
DESCRIPTION:Our staff and board are excited to invite you to the Autumn Social 2025. \nThis evening of music\, food and conversation will celebrate the solidarity that grows when human rights defenders and lawyers team up to defend the public interest. \nWhile some political parties try to distract you with tired\, negative narratives\, we can choose a proactive path. Together\, we can defend our human rights protections\, maximising the promise of the Human Rights Act for another 25 years of collective action. \nAs well as a chance to meet the people at the frontline of legal changemaking in Northern Ireland\, you’ll also enjoy: \n\nSpecial guest speaker John Wadham (outgoing Human Rights Advisor to the Northern Ireland Policing Board)\nLive music and photography exhibition\nFood\, drink and great company \n\n  \nTickets are free. Please RSVP now\, it helps us to plan catering!
URL:https://probonoweek.org.uk/event/when-communities-and-lawyers-unite-incredible-things-happen-the-pils-project
LOCATION:Belfast Exposed\, \, 23 Donegall St\, Belfast\, BT1 2FF
CATEGORIES:Fundraiser,Networking,Pro bono: Stories of impact – hear from the frontline about how pro bono lawyers transform lives and support charities to make a difference in our communities and abroad
END:VEVENT
BEGIN:VEVENT
DTSTART;TZID=UTC:20251030T181500
DTEND;TZID=UTC:20251030T200000
DTSTAMP:20260422T115443
CREATED:20251023T215748Z
LAST-MODIFIED:20251023T215748Z
UID:2972-1761848100-1761854400@probonoweek.org.uk
SUMMARY:Free Representation Unit (FRU) Annual General Meeting
DESCRIPTION:Our annual general assembly is taking place on 30 October at 6.15. The venue is LATHAM & WATKINS LLP\, 99 Bishopsgate\, London EC2M 3XF and the event will start at 6.15 p.m. \nWe are pleased and proud to say that Lord Justice Dingemans\, the Senior President of Tribunals has agreed to attend and speak at our annual general assembly on 30 October. \nThis is one of Sir James’ first engagements in his new role so we are honoured that he is joining us to celebrate our hashtag#ProBono work over the past 12 months. \nThis event is part of hashtag#ProBonoWeek. Please come and join us – everyone is welcome! \nRSVP chief.exec@thefru.org.uk
URL:https://probonoweek.org.uk/event/free-representation-unit-fru-annual-general-meeting
LOCATION:Latham & Watkins LLP\, 99 Bishopsgate\, London\, EC2M 3XF
CATEGORIES:Networking,Pro Bono in Action
END:VEVENT
BEGIN:VEVENT
DTSTART;VALUE=DATE:20251031
DTEND;VALUE=DATE:20251101
DTSTAMP:20260422T115443
CREATED:20251016T080533Z
LAST-MODIFIED:20251016T080533Z
UID:2885-1761868800-1761955199@probonoweek.org.uk
SUMMARY:King's Legal Clinic Pro Bono Talk with Freshfields  - Kings College London
DESCRIPTION:As part of the Pro Bono Week 2025 campaign\, King’s Legal Clinic will be hosting a Pro Bono Talk with Freshfields on Friday 31st October 2025. \nThe session will be open exclusively to King’s College London law students only. 
URL:https://probonoweek.org.uk/event/kings-legal-clinic-pro-bono-talk-with-freshfields-kings-college-london
CATEGORIES:Pro Bono in Action
END:VEVENT
END:VCALENDAR