BEGIN:VCALENDAR
VERSION:2.0
PRODID:-//Pro Bono Week UK - ECPv6.15.20//NONSGML v1.0//EN
CALSCALE:GREGORIAN
METHOD:PUBLISH
X-ORIGINAL-URL:https://probonoweek.org.uk
X-WR-CALDESC:Events for Pro Bono Week UK
REFRESH-INTERVAL;VALUE=DURATION:PT1H
X-Robots-Tag:noindex
X-PUBLISHED-TTL:PT1H
BEGIN:VTIMEZONE
TZID:UTC
BEGIN:STANDARD
TZOFFSETFROM:+0000
TZOFFSETTO:+0000
TZNAME:UTC
DTSTART:20240101T000000
END:STANDARD
END:VTIMEZONE
BEGIN:VEVENT
DTSTART;VALUE=DATE:20251107
DTEND;VALUE=DATE:20251108
DTSTAMP:20260422T223523
CREATED:20251030T091800Z
LAST-MODIFIED:20251030T091800Z
UID:3010-1762473600-1762559999@probonoweek.org.uk
SUMMARY:All Day Pro Bono University of Glasgow Instagram takeover - Glasgow Law School
DESCRIPTION:Glasgow Open Justice Centre as part of Glasgow Law School are proud to celebrate Pro Bono Week 2025. \nThis year\, our student volunteers will be hosting the programme of events to mark Pro Bono Week\, recognising the good work by volunteers at the Justice Centre giving free legal help to those most in need: \nMonday 3rd November 6-9pm Pro Bono Pub quiz –  at the Queen Margaret Union\, Glasgow \nThursday 6th November 5-7pm Pro Bono & Prosecco student/staff mixer –  held at the GO Justice Centre. \nFriday 7th November All Day Pro Bono University of Glasgow social media takeover on Instagram \nOur events are open to staff and students of Glasgow Law School and Glasgow Open Justice Centre only.
URL:https://probonoweek.org.uk/event/all-day-pro-bono-university-of-glasgow-instagram-takeover-glasgow-law-school
CATEGORIES:Pro Bono in Action
END:VEVENT
BEGIN:VEVENT
DTSTART;VALUE=DATE:20251107
DTEND;VALUE=DATE:20251108
DTSTAMP:20260422T223523
CREATED:20251101T144339Z
LAST-MODIFIED:20251101T144339Z
UID:3049-1762473600-1762559999@probonoweek.org.uk
SUMMARY:Community Outreach Initiative - Free Legal Advice Drop-in Surgery at Hallam Legal Advice Centre\, Sheffield.
DESCRIPTION:Date: Friday 7th November 2025 \nAs part of the week\, Sheffield Hallam Legal Advice Centre will run a Community Outreach Initiative – Free Legal Advice Drop-in Surgery. \nInvitation only.
URL:https://probonoweek.org.uk/event/community-outreach-initiative-free-legal-advice-drop-in-surgery-at-hallam-legal-advice-centre-sheffield
CATEGORIES:Pro Bono in Action
END:VEVENT
BEGIN:VEVENT
DTSTART;TZID=UTC:20251107T103000
DTEND;TZID=UTC:20251107T123000
DTSTAMP:20260422T223523
CREATED:20251010T151617Z
LAST-MODIFIED:20251010T151617Z
UID:2854-1762511400-1762518600@probonoweek.org.uk
SUMMARY:AL-HQ Law and More - Community Legal Surgery
DESCRIPTION:AL-HQ Law and More are a social enterprise law firm. We host a Free Community Legal Surgery covering many areas of law\, send an email to find out if your enquiry can be supported. A social enterprise legal practice and registered law clinic for your local needs. \nAs part of celebrating Pro Bono Week keeping within the theme Pro Bono in Action\, our next free legal clinic will take place on Friday 7th November in the business lounge of our office between 10.30am to 12.30pm. \nVisit our Community Legal Surgery by reserving a free legal advice session or drop by on the day for coffee\, cake & law with free resources available to all. Book early by emailing info@alhqlaw.com (legal advice sessions can be reserved) taking place in Southampton.
URL:https://probonoweek.org.uk/event/al-hq-law-and-more-community-legal-surgery
LOCATION:AL-HQ Law\, Regus - Southampton Airport International House George Curl Way\, Southampton\, SO18 2RZ
CATEGORIES:Pro Bono in Action
END:VEVENT
BEGIN:VEVENT
DTSTART;TZID=UTC:20251107T140000
DTEND;TZID=UTC:20251107T170000
DTSTAMP:20260422T223523
CREATED:20251022T113415Z
LAST-MODIFIED:20251022T114300Z
UID:2964-1762524000-1762534800@probonoweek.org.uk
SUMMARY:Coram Chambers Takeover of Dads House Family Law Clinic - Day 2
DESCRIPTION:Dad’s House are proud to celebrate and take part in Pro Bono Week 2025! \nIn collaboration with Coram Chambers we are doing an exciting event\, the Coram Chamber’s Takeover of Dads House Family Law Clinic on Wednesday the 5th and 7th of November. Dad’s House are proud to run this event in its third year running! \nDuring pro bono week we will have a different barrister for each client appointment at Dads House Family Law Clinic\, where we advise single parents going through the family court with private child proceedings. \nThis event is invitation on
URL:https://probonoweek.org.uk/event/coram-chambers-takeover-of-dads-house-family-law-clinic-day2-friday
CATEGORIES:Pro Bono in Action
END:VEVENT
BEGIN:VEVENT
DTSTART;TZID=UTC:20251107T150000
DTEND;TZID=UTC:20251107T193000
DTSTAMP:20260422T223523
CREATED:20251015T161042Z
LAST-MODIFIED:20251015T161042Z
UID:2879-1762527600-1762543800@probonoweek.org.uk
SUMMARY:Pro Bono Week Panel event  with Young Legal Aid Lawyers - University of Manchester Pro Bono Society
DESCRIPTION:The University of Manchester Pro Bono Society are proud to take part and celebrate Pro Bono Week 2025.  \nAs part of highlighting ‘Pro Bono in Action’ \, we will be hosting a panel talk on the 7th of November with lawyers from Young Legal Aid Lawyers (YLAL). Speakers include: \nAvaia Nightingale Williams – Pupil Barrister\, Parklane Plowden Chambers (Family law barrister\, currently engages in substantial pro bono advocacy via Advocate) \nSian Waldron – Criminal law solicitor\, currently engages in substantial pro bono work. \nThe panel will be broadly cover the following topics: \n– Introduction of both the lawyers \n– History from being a law student to working in pro bono \n– How does pro bono work differ from billable work? Why is it more satisfying? (drawing on personal examples from the panel members) \n– How does YLAL in particular facilitate that avenue for pro bono? \n– What can students do to engage in pro bono from an early stage of their legal journey? \n– How do you portray pro bono work when applying for legal roles? \nThis event is for University of Manchester students only. 
URL:https://probonoweek.org.uk/event/pro-bono-week-panel-event-with-young-legal-aid-lawyers-university-of-manchester-pro-bono-society
CATEGORIES:Pro Bono in Action,Pro bono: Getting involved – advice and practical steps about how to start making a difference through pro bono.
END:VEVENT
BEGIN:VEVENT
DTSTART;TZID=UTC:20251107T183000
DTEND;TZID=UTC:20251107T203000
DTSTAMP:20260422T223523
CREATED:20251110T213514Z
LAST-MODIFIED:20251110T213955Z
UID:3081-1762540200-1762547400@probonoweek.org.uk
SUMMARY:Citizens' Barray event at FTB
DESCRIPTION:Join us at Francis Taylor Building in the Temple on Friday 7 November 2025 at 6:30pm\, for an informal introduction over drinks to the Sierra Leonean organisation Citizens’ Barray.  Eleanor Thompson\, lawyer at Citizens’ Barray\, will be present and is keen to introduce those with an interest in the legal system in Sierra Leone to her new organisation. \nCitizens’ Barray is a platform for informing\, organizing\, and innovating\, so young Sierra Leonean citizens can lead their communities in community action to challenge the harms they face and shape equitable\, just systems in Sierra Leone. Citizens’ Barray believes that lasting and transformative justice solutions are possible when citizens are informed and engaged\, i.e. when democracy works. \nInvitation Only.
URL:https://probonoweek.org.uk/event/citizens-barray-event-at-ftb
LOCATION:Francis Taylor Building
CATEGORIES:Pro Bono in Action
END:VEVENT
BEGIN:VEVENT
DTSTART;TZID=UTC:20251107T183000
DTEND;TZID=UTC:20251107T230000
DTSTAMP:20260422T223523
CREATED:20251015T090215Z
LAST-MODIFIED:20251015T090215Z
UID:2872-1762540200-1762556400@probonoweek.org.uk
SUMMARY:Winter Warmer Fundraising Ball - Gateshead CAB
DESCRIPTION:On Friday 7th November\, join us for the Winter Warmer Fundraising Ball at Delta Hotels Newcastle Gateshead. \nThis event raises vital funds for our Winter Warmer campaign\, which provides packs filled with warm clothing\, food vouchers\, and essentials to families in Gateshead facing fuel poverty. \n🎟️ Book your ticket or reserve a table of 10 for your team: Winter Warmer Fundraising Ball 2025 | Support\, Celebrate\, Help \nNot able to attend? You can still support by:\n• Donating the cost of a pack (£50)\n• Offering a raffle prize\n• Sharing this campaign with your network \nLet’s turn compassion into action this winter.
URL:https://probonoweek.org.uk/event/winter-warmer-fundraising-ball-gateshead-cab
LOCATION:Delta Hotels by Marriott\, Marconi Way\, MetroCentre\, Gateshead\, Newcastle\, NE11 9XF
CATEGORIES:Fundraiser
END:VEVENT
BEGIN:VEVENT
DTSTART;VALUE=DATE:20251108
DTEND;VALUE=DATE:20251109
DTSTAMP:20260422T223523
CREATED:20251101T163613Z
LAST-MODIFIED:20251101T163613Z
UID:3057-1762560000-1762646399@probonoweek.org.uk
SUMMARY:Dundee Pro Bono society with the TayPer Law Project
DESCRIPTION:Dundee Pro Bono society in Partnership with the TayPer Law Project are proud to take part in and celebrate Pro Bono Week 2025 by hosting a pro bono panel\, followed by a workshop. \nDetails TBC. \nInvitation Only.
URL:https://probonoweek.org.uk/event/dundee-pro-bono-society-with-the-tayper-law-project
CATEGORIES:Networking,Pro Bono in Action
END:VEVENT
BEGIN:VEVENT
DTSTART;TZID=UTC:20251110T130000
DTEND;TZID=UTC:20251110T140000
DTSTAMP:20260422T223523
CREATED:20251111T093054Z
LAST-MODIFIED:20251111T093054Z
UID:3102-1762779600-1762783200@probonoweek.org.uk
SUMMARY:Streetlaw Workshop #1 - Running a Streetlaw Session - LSE Legal Advice Centre
DESCRIPTION:LSE Legal Advice Centre are proud to take Part in the Pro Bono Week 2025 campaign. \nIn the spirit of promoting access to justice and a fairer society\, students will be undertaking a workshop in Street law. \nInvitation only.
URL:https://probonoweek.org.uk/event/streetlaw-workshop-1-running-a-streetlaw-session-lse-legal-advice-centre
CATEGORIES:Pro Bono in Action
END:VEVENT
BEGIN:VEVENT
DTSTART;TZID=UTC:20251118T140000
DTEND;TZID=UTC:20251118T150000
DTSTAMP:20260422T223523
CREATED:20251030T083653Z
LAST-MODIFIED:20251030T083653Z
UID:3003-1763474400-1763478000@probonoweek.org.uk
SUMMARY:A Windrush Story – celebrating the power of pro bono (internal event) - Bryan Cave Leighton Paisner LLP
DESCRIPTION:To mark Pro Bono Week at the start of November\, BCLP are hosting an event showcasing the Windrush Legal Initiative – a collaboration between BCLP\, the Greater Manchester Immigration Aid Unit and seven other firms\, helping victims of the Windrush scandal obtain justice and fair compensation. \n  \nWe are delighted to be joined by one of our clients\, who we are proud to have helped obtain a compensation award from the Windrush Compensation Fund\, and by Nicola Burgess – solicitor at GMIAU and head of the Windrush Legal Initiative\, for a conversation with BCLP’s EMEA pro bono partner Jamie Wiseman-Clarke.  We will hear our client’s remarkable story and the ongoing struggle to obtain justice of many other Windrush victims affected by the UK government’s so-called Hostile Environment legislation and policies. \nInternal Event Only
URL:https://probonoweek.org.uk/event/a-windrush-story-celebrating-the-power-of-pro-bono-internal-event-bryan-cave-leighton-paisner-llp
CATEGORIES:Pro Bono in Action,Pro bono: Stories of impact – hear from the frontline about how pro bono lawyers transform lives and support charities to make a difference in our communities and abroad
END:VEVENT
BEGIN:VEVENT
DTSTART;TZID=UTC:20251118T173000
DTEND;TZID=UTC:20251118T203000
DTSTAMP:20260422T223523
CREATED:20251021T074423Z
LAST-MODIFIED:20251021T074423Z
UID:2913-1763487000-1763497800@probonoweek.org.uk
SUMMARY:Empowering Their Voices: A Celebration of Legal Triumphs for Girls in Latin America and Beyond - Debevoise & Plimpton
DESCRIPTION:In celebration of UK Pro Bono Week\, Debevoise & Plimpton invite you to join us for our in person London event; Empowering Their Voices: A Celebration of Legal Triumphs for Girls in Latin America and Beyond.  in partnership with the Center for Reproductive Rights.  \nIn May 2019\, Debevoise & Plimpton\, co-counseling with the Center for Reproductive Rights\, filed legal petitions before the UN Human Rights Committee on behalf of four young survivors of sexual violence. These petitions held Nicaragua\, Guatemala and Ecuador accountable for violations of international human rights obligations. The litigation not only sought justice for the individual survivors but also aimed to confront the structural discrimination embedded in national laws and practices. \nThis landmark effort was made possible through a sustained and collaborative partnership between pro bono lawyers and human rights advocates. Over more than five years\, the law firm and the NGO worked side by side\, combining legal expertise\, resources and advocacy strategies to build a case that ultimately helped reshape international legal standards. \nWe are delighted to invite you to our in person event and join the panel of experts who were directly involved in this litigation. They will share insights on how they translated this victory into lasting change. \nA drinks reception will follow the discussion\, offering an opportunity for further conversation and networking with colleagues. \nRegistration Link: Social Event 2025 -11-18 (LO) Empowering Their Voices: A Celebration of Legal Triumphs for Girls in Latin America and Beyond | RSVP Blank \nSpeaker details to follow. \nDo you have specific questions you would like addressed? If so\, please email Debevoise Events\, and we will address them during the discussion or follow up separately.
URL:https://probonoweek.org.uk/event/empowering-their-voices-a-celebration-of-legal-triumphs-for-girls-in-latin-america-and-beyond-debevoise-plimpton
LOCATION:Debevoise & Plimpton LLP\, The Northcliffe 28 Tudor Street London\, London\, EC4Y 0AY
CATEGORIES:everyday stories of the impact of lawyers and law students who give their time to protect the rights of those most disadvantaged in society.,Networking,Pro Bono in Action
END:VEVENT
BEGIN:VEVENT
DTSTART;TZID=UTC:20251203T160000
DTEND;TZID=UTC:20251203T173000
DTSTAMP:20260422T223523
CREATED:20251020T114645Z
LAST-MODIFIED:20251020T114645Z
UID:2909-1764777600-1764783000@probonoweek.org.uk
SUMMARY:Reshaping Legal Services in the South East of England - Legal Services Board with the University of Southampton
DESCRIPTION:It is with great pleasure that we invite you to attend the Legal Services Board’s ‘Reshaping Legal Services in the South East of England’ event on 3 December from 4pm to 5.30pm. \nHosted by the University of Southampton\, it will serve as an opportunity for colleagues across the legal services sector in the South East to discuss the opportunities and challenges facing the profession in the region. \nThe Legal Services Board is the oversight regulator for legal services in England and Wales. We oversee the performance of the sector’s regulators\, including the Solicitors Regulation Authority\, the Bar Standards Board\, and CILEx Regulation. We regulate them in the public interest to promote an independent\, strong\, competitive\, diverse\, and effective legal profession. \n  \nOur Reshaping Legal Services strategy sets out our ambition to make sure regulation supports access to legal services for everyone who needs them\, especially those individuals and businesses whose needs are too often unmet.  We are interested in exploring areas where regulation can have the greatest impact in addressing the challenges facing the sector. We would be particularly interested in your views and experiences in relation to: \n  \n\naccess to justice\nconsumer protection\ndiversity and inclusion\neducation\, training and ongoing competence\nprofessional ethics and the rule of law\nTechnology and innovation\n\n  \nWe hope you’ll be able to join us for a wide-ranging discussion at this event with legal professionals\, academics\, advice agencies\, and consumer groups from across the South East of England. Feel free to extend the invitation to colleagues and others who might be interested in attending. \n  \nIf there are issues you would like to discuss or hear more about at the event\, feel free to let us know in advance. \n  \nThis in-person event is taking place at the University of Southampton. \n  \nIf you can attend\, please RSVP to events@legalservicesboard.org.uk.
URL:https://probonoweek.org.uk/event/reshaping-legal-services-in-the-south-east-of-england-legal-services-board-with-the-university-of-southampton
LOCATION:University of Southampton\, Highfield Campus\, Southampton\, SO17 1BJ
CATEGORIES:Networking
ORGANIZER;CN="Legal Services Board":MAILTO:events@legalservicesboard.org.uk
END:VEVENT
BEGIN:VEVENT
DTSTART;TZID=UTC:20261102T180000
DTEND;TZID=UTC:20261102T210000
DTSTAMP:20260422T223523
CREATED:20260417T153335Z
LAST-MODIFIED:20260417T153335Z
UID:3257-1793642400-1793653200@probonoweek.org.uk
SUMMARY:Pro Bono Week Launch 2026
DESCRIPTION:Hold the date for the Pro Bono Week 25th Anniversary Launch\, in London and hybrid\, with more information to come in the coming weeks.
URL:https://probonoweek.org.uk/event/pro-bono-week-launch-2026
END:VEVENT
BEGIN:VEVENT
DTSTART;TZID=UTC:20261103T180000
DTEND;TZID=UTC:20261103T180000
DTSTAMP:20260422T223523
CREATED:20260420T142729Z
LAST-MODIFIED:20260420T142729Z
UID:3263-1793728800-1793728800@probonoweek.org.uk
SUMMARY:Young Lawyers Event
DESCRIPTION:Hold the date for the annual Young Lawyers event. More information to follow.
URL:https://probonoweek.org.uk/event/young-lawyers-event
END:VEVENT
BEGIN:VEVENT
DTSTART;TZID=UTC:20261104T173000
DTEND;TZID=UTC:20261104T200000
DTSTAMP:20260422T223523
CREATED:20260417T153446Z
LAST-MODIFIED:20260417T153446Z
UID:3259-1793813400-1793822400@probonoweek.org.uk
SUMMARY:Sheffield Pro Bono Summit
DESCRIPTION:Hold the date for Wednesday 4th November for Sheffield’s first Pro Bono Summit. More information to follow in the coming weeks.
URL:https://probonoweek.org.uk/event/sheffield-pro-bono-summit
END:VEVENT
BEGIN:VEVENT
DTSTART;TZID=UTC:20261105T170000
DTEND;TZID=UTC:20261105T200000
DTSTAMP:20260422T223523
CREATED:20260417T153737Z
LAST-MODIFIED:20260417T153737Z
UID:3261-1793898000-1793908800@probonoweek.org.uk
SUMMARY:Greater Manchester Pro Bono Awards
DESCRIPTION:Hold the date for the Greater Manchester Pro Bono Awards\, taking place in the Civil Justice Centre.
URL:https://probonoweek.org.uk/event/greater-manchester-pro-bono-awards
END:VEVENT
END:VCALENDAR