BEGIN:VCALENDAR
VERSION:2.0
PRODID:-//Pro Bono Week UK - ECPv6.15.20//NONSGML v1.0//EN
CALSCALE:GREGORIAN
METHOD:PUBLISH
X-WR-CALNAME:Pro Bono Week UK
X-ORIGINAL-URL:https://probonoweek.org.uk
X-WR-CALDESC:Events for Pro Bono Week UK
REFRESH-INTERVAL;VALUE=DURATION:PT1H
X-Robots-Tag:noindex
X-PUBLISHED-TTL:PT1H
BEGIN:VTIMEZONE
TZID:UTC
BEGIN:STANDARD
TZOFFSETFROM:+0000
TZOFFSETTO:+0000
TZNAME:UTC
DTSTART:20250101T000000
END:STANDARD
END:VTIMEZONE
BEGIN:VEVENT
DTSTART;TZID=UTC:20261104T173000
DTEND;TZID=UTC:20261104T200000
DTSTAMP:20260420T183530
CREATED:20260417T153446Z
LAST-MODIFIED:20260417T153446Z
UID:3259-1793813400-1793822400@probonoweek.org.uk
SUMMARY:Sheffield Pro Bono Summit
DESCRIPTION:Hold the date for Wednesday 4th November for Sheffield’s first Pro Bono Summit. More information to follow in the coming weeks.
URL:https://probonoweek.org.uk/event/sheffield-pro-bono-summit
END:VEVENT
END:VCALENDAR